BEGIN:VCALENDAR
VERSION:2.0
PRODID:-//Weldon Mills Durham - ECPv6.11.2//NONSGML v1.0//EN
CALSCALE:GREGORIAN
METHOD:PUBLISH
X-ORIGINAL-URL:https://weldonmillsdurham.com
X-WR-CALDESC:Events for Weldon Mills Durham
REFRESH-INTERVAL;VALUE=DURATION:PT1H
X-Robots-Tag:noindex
X-PUBLISHED-TTL:PT1H
BEGIN:VTIMEZONE
TZID:America/New_York
BEGIN:DAYLIGHT
TZOFFSETFROM:-0500
TZOFFSETTO:-0400
TZNAME:EDT
DTSTART:20260308T070000
END:DAYLIGHT
BEGIN:STANDARD
TZOFFSETFROM:-0400
TZOFFSETTO:-0500
TZNAME:EST
DTSTART:20261101T060000
END:STANDARD
BEGIN:DAYLIGHT
TZOFFSETFROM:-0500
TZOFFSETTO:-0400
TZNAME:EDT
DTSTART:20270314T070000
END:DAYLIGHT
BEGIN:STANDARD
TZOFFSETFROM:-0400
TZOFFSETTO:-0500
TZNAME:EST
DTSTART:20271107T060000
END:STANDARD
END:VTIMEZONE
BEGIN:VEVENT
DTSTART;TZID=America/New_York:20261231T200000
DTEND;TZID=America/New_York:20270101T000000
DTSTAMP:20260420T023011
CREATED:20260207T223603Z
LAST-MODIFIED:20260319T030614Z
UID:10000179-1798747200-1798761600@weldonmillsdurham.com
SUMMARY:Underground Latin Dance Social
DESCRIPTION:
URL:https://weldonmillsdurham.com/event/underground-latin-dance-social-44/
LOCATION:300 E Main St\, Durham\, NC\, United States
GEO:35.99924;-78.897944
END:VEVENT
BEGIN:VEVENT
DTSTART;TZID=America/New_York:20270101T200000
DTEND;TZID=America/New_York:20270101T220000
DTSTAMP:20260420T023011
CREATED:20250608T043211Z
LAST-MODIFIED:20260319T030614Z
UID:10000089-1798833600-1798840800@weldonmillsdurham.com
SUMMARY:Live Music
DESCRIPTION:
URL:https://weldonmillsdurham.com/event/live-music-83/
LOCATION:300 E Main St\, Durham\, NC\, United States
GEO:35.99924;-78.897944
END:VEVENT
BEGIN:VEVENT
DTSTART;TZID=America/New_York:20270107T200000
DTEND;TZID=America/New_York:20270108T000000
DTSTAMP:20260420T023011
CREATED:20260207T223603Z
LAST-MODIFIED:20260319T030614Z
UID:10000180-1799352000-1799366400@weldonmillsdurham.com
SUMMARY:Underground Latin Dance Social
DESCRIPTION:
URL:https://weldonmillsdurham.com/event/underground-latin-dance-social-45/
LOCATION:300 E Main St\, Durham\, NC\, United States
GEO:35.99924;-78.897944
END:VEVENT
BEGIN:VEVENT
DTSTART;TZID=America/New_York:20270108T200000
DTEND;TZID=America/New_York:20270108T220000
DTSTAMP:20260420T023011
CREATED:20250608T043211Z
LAST-MODIFIED:20260319T030614Z
UID:10000090-1799438400-1799445600@weldonmillsdurham.com
SUMMARY:Live Music
DESCRIPTION:
URL:https://weldonmillsdurham.com/event/live-music-84/
LOCATION:300 E Main St\, Durham\, NC\, United States
GEO:35.99924;-78.897944
END:VEVENT
BEGIN:VEVENT
DTSTART;TZID=America/New_York:20270114T200000
DTEND;TZID=America/New_York:20270115T000000
DTSTAMP:20260420T023011
CREATED:20260207T223603Z
LAST-MODIFIED:20260319T030614Z
UID:10000181-1799956800-1799971200@weldonmillsdurham.com
SUMMARY:Underground Latin Dance Social
DESCRIPTION:
URL:https://weldonmillsdurham.com/event/underground-latin-dance-social-46/
LOCATION:300 E Main St\, Durham\, NC\, United States
GEO:35.99924;-78.897944
END:VEVENT
BEGIN:VEVENT
DTSTART;TZID=America/New_York:20270115T200000
DTEND;TZID=America/New_York:20270115T220000
DTSTAMP:20260420T023011
CREATED:20250608T043211Z
LAST-MODIFIED:20260319T030614Z
UID:10000091-1800043200-1800050400@weldonmillsdurham.com
SUMMARY:Live Music
DESCRIPTION:
URL:https://weldonmillsdurham.com/event/live-music-85/
LOCATION:300 E Main St\, Durham\, NC\, United States
GEO:35.99924;-78.897944
END:VEVENT
BEGIN:VEVENT
DTSTART;TZID=America/New_York:20270121T200000
DTEND;TZID=America/New_York:20270122T000000
DTSTAMP:20260420T023011
CREATED:20260207T223603Z
LAST-MODIFIED:20260319T030614Z
UID:10000182-1800561600-1800576000@weldonmillsdurham.com
SUMMARY:Underground Latin Dance Social
DESCRIPTION:
URL:https://weldonmillsdurham.com/event/underground-latin-dance-social-47/
LOCATION:300 E Main St\, Durham\, NC\, United States
GEO:35.99924;-78.897944
END:VEVENT
BEGIN:VEVENT
DTSTART;TZID=America/New_York:20270122T200000
DTEND;TZID=America/New_York:20270122T220000
DTSTAMP:20260420T023011
CREATED:20250608T043211Z
LAST-MODIFIED:20260319T030614Z
UID:10000092-1800648000-1800655200@weldonmillsdurham.com
SUMMARY:Live Music
DESCRIPTION:
URL:https://weldonmillsdurham.com/event/live-music-86/
LOCATION:300 E Main St\, Durham\, NC\, United States
GEO:35.99924;-78.897944
END:VEVENT
BEGIN:VEVENT
DTSTART;TZID=America/New_York:20270128T200000
DTEND;TZID=America/New_York:20270129T000000
DTSTAMP:20260420T023011
CREATED:20260207T223603Z
LAST-MODIFIED:20260319T030615Z
UID:10000183-1801166400-1801180800@weldonmillsdurham.com
SUMMARY:Underground Latin Dance Social
DESCRIPTION:
URL:https://weldonmillsdurham.com/event/underground-latin-dance-social-48/
LOCATION:300 E Main St\, Durham\, NC\, United States
GEO:35.99924;-78.897944
END:VEVENT
BEGIN:VEVENT
DTSTART;TZID=America/New_York:20270129T200000
DTEND;TZID=America/New_York:20270129T220000
DTSTAMP:20260420T023011
CREATED:20250608T043211Z
LAST-MODIFIED:20260319T030615Z
UID:10000093-1801252800-1801260000@weldonmillsdurham.com
SUMMARY:Live Music
DESCRIPTION:
URL:https://weldonmillsdurham.com/event/live-music-87/
LOCATION:300 E Main St\, Durham\, NC\, United States
GEO:35.99924;-78.897944
END:VEVENT
BEGIN:VEVENT
DTSTART;TZID=America/New_York:20270204T200000
DTEND;TZID=America/New_York:20270205T000000
DTSTAMP:20260420T023011
CREATED:20260207T223603Z
LAST-MODIFIED:20260319T030615Z
UID:10000184-1801771200-1801785600@weldonmillsdurham.com
SUMMARY:Underground Latin Dance Social
DESCRIPTION:
URL:https://weldonmillsdurham.com/event/underground-latin-dance-social-49/
LOCATION:300 E Main St\, Durham\, NC\, United States
GEO:35.99924;-78.897944
END:VEVENT
BEGIN:VEVENT
DTSTART;TZID=America/New_York:20270205T200000
DTEND;TZID=America/New_York:20270205T220000
DTSTAMP:20260420T023011
CREATED:20250608T043211Z
LAST-MODIFIED:20260319T030615Z
UID:10000094-1801857600-1801864800@weldonmillsdurham.com
SUMMARY:Live Music
DESCRIPTION:
URL:https://weldonmillsdurham.com/event/live-music-88/
LOCATION:300 E Main St\, Durham\, NC\, United States
GEO:35.99924;-78.897944
END:VEVENT
BEGIN:VEVENT
DTSTART;TZID=America/New_York:20270211T200000
DTEND;TZID=America/New_York:20270212T000000
DTSTAMP:20260420T023011
CREATED:20260207T223603Z
LAST-MODIFIED:20260319T030615Z
UID:10000185-1802376000-1802390400@weldonmillsdurham.com
SUMMARY:Underground Latin Dance Social
DESCRIPTION:
URL:https://weldonmillsdurham.com/event/underground-latin-dance-social-50/
LOCATION:300 E Main St\, Durham\, NC\, United States
GEO:35.99924;-78.897944
END:VEVENT
BEGIN:VEVENT
DTSTART;TZID=America/New_York:20270212T200000
DTEND;TZID=America/New_York:20270212T220000
DTSTAMP:20260420T023011
CREATED:20250608T043211Z
LAST-MODIFIED:20260319T030615Z
UID:10000095-1802462400-1802469600@weldonmillsdurham.com
SUMMARY:Live Music
DESCRIPTION:
URL:https://weldonmillsdurham.com/event/live-music-89/
LOCATION:300 E Main St\, Durham\, NC\, United States
GEO:35.99924;-78.897944
END:VEVENT
BEGIN:VEVENT
DTSTART;TZID=America/New_York:20270218T200000
DTEND;TZID=America/New_York:20270219T000000
DTSTAMP:20260420T023011
CREATED:20260207T223603Z
LAST-MODIFIED:20260319T030615Z
UID:10000186-1802980800-1802995200@weldonmillsdurham.com
SUMMARY:Underground Latin Dance Social
DESCRIPTION:
URL:https://weldonmillsdurham.com/event/underground-latin-dance-social-51/
LOCATION:300 E Main St\, Durham\, NC\, United States
GEO:35.99924;-78.897944
END:VEVENT
BEGIN:VEVENT
DTSTART;TZID=America/New_York:20270219T200000
DTEND;TZID=America/New_York:20270219T220000
DTSTAMP:20260420T023011
CREATED:20250608T043211Z
LAST-MODIFIED:20260319T030615Z
UID:10000096-1803067200-1803074400@weldonmillsdurham.com
SUMMARY:Live Music
DESCRIPTION:
URL:https://weldonmillsdurham.com/event/live-music-90/
LOCATION:300 E Main St\, Durham\, NC\, United States
GEO:35.99924;-78.897944
END:VEVENT
BEGIN:VEVENT
DTSTART;TZID=America/New_York:20270225T200000
DTEND;TZID=America/New_York:20270226T000000
DTSTAMP:20260420T023011
CREATED:20260207T223603Z
LAST-MODIFIED:20260319T030615Z
UID:10000187-1803585600-1803600000@weldonmillsdurham.com
SUMMARY:Underground Latin Dance Social
DESCRIPTION:
URL:https://weldonmillsdurham.com/event/underground-latin-dance-social-52/
LOCATION:300 E Main St\, Durham\, NC\, United States
GEO:35.99924;-78.897944
END:VEVENT
BEGIN:VEVENT
DTSTART;TZID=America/New_York:20270226T200000
DTEND;TZID=America/New_York:20270226T220000
DTSTAMP:20260420T023011
CREATED:20250608T043212Z
LAST-MODIFIED:20260319T030615Z
UID:10000097-1803672000-1803679200@weldonmillsdurham.com
SUMMARY:Live Music
DESCRIPTION:
URL:https://weldonmillsdurham.com/event/live-music-91/
LOCATION:300 E Main St\, Durham\, NC\, United States
GEO:35.99924;-78.897944
END:VEVENT
BEGIN:VEVENT
DTSTART;TZID=America/New_York:20270304T200000
DTEND;TZID=America/New_York:20270305T000000
DTSTAMP:20260420T023011
CREATED:20260207T223603Z
LAST-MODIFIED:20260319T030615Z
UID:10000188-1804190400-1804204800@weldonmillsdurham.com
SUMMARY:Underground Latin Dance Social
DESCRIPTION:
URL:https://weldonmillsdurham.com/event/underground-latin-dance-social-53/
LOCATION:300 E Main St\, Durham\, NC\, United States
GEO:35.99924;-78.897944
END:VEVENT
BEGIN:VEVENT
DTSTART;TZID=America/New_York:20270305T200000
DTEND;TZID=America/New_York:20270305T220000
DTSTAMP:20260420T023011
CREATED:20250608T043212Z
LAST-MODIFIED:20260319T030615Z
UID:10000098-1804276800-1804284000@weldonmillsdurham.com
SUMMARY:Live Music
DESCRIPTION:
URL:https://weldonmillsdurham.com/event/live-music-92/
LOCATION:300 E Main St\, Durham\, NC\, United States
GEO:35.99924;-78.897944
END:VEVENT
BEGIN:VEVENT
DTSTART;TZID=America/New_York:20270311T200000
DTEND;TZID=America/New_York:20270312T000000
DTSTAMP:20260420T023011
CREATED:20260207T223603Z
LAST-MODIFIED:20260319T030615Z
UID:10000189-1804795200-1804809600@weldonmillsdurham.com
SUMMARY:Underground Latin Dance Social
DESCRIPTION:
URL:https://weldonmillsdurham.com/event/underground-latin-dance-social-54/
LOCATION:300 E Main St\, Durham\, NC\, United States
GEO:35.99924;-78.897944
END:VEVENT
BEGIN:VEVENT
DTSTART;TZID=America/New_York:20270312T200000
DTEND;TZID=America/New_York:20270312T220000
DTSTAMP:20260420T023011
CREATED:20250608T043212Z
LAST-MODIFIED:20260319T030615Z
UID:10000099-1804881600-1804888800@weldonmillsdurham.com
SUMMARY:Live Music
DESCRIPTION:
URL:https://weldonmillsdurham.com/event/live-music-93/
LOCATION:300 E Main St\, Durham\, NC\, United States
GEO:35.99924;-78.897944
END:VEVENT
BEGIN:VEVENT
DTSTART;TZID=America/New_York:20270318T200000
DTEND;TZID=America/New_York:20270319T000000
DTSTAMP:20260420T023011
CREATED:20260207T223603Z
LAST-MODIFIED:20260319T030615Z
UID:10000190-1805400000-1805414400@weldonmillsdurham.com
SUMMARY:Underground Latin Dance Social
DESCRIPTION:
URL:https://weldonmillsdurham.com/event/underground-latin-dance-social-55/
LOCATION:300 E Main St\, Durham\, NC\, United States
GEO:35.99924;-78.897944
END:VEVENT
BEGIN:VEVENT
DTSTART;TZID=America/New_York:20270319T200000
DTEND;TZID=America/New_York:20270319T220000
DTSTAMP:20260420T023011
CREATED:20250608T043212Z
LAST-MODIFIED:20260319T030615Z
UID:10000100-1805486400-1805493600@weldonmillsdurham.com
SUMMARY:Live Music
DESCRIPTION:
URL:https://weldonmillsdurham.com/event/live-music-94/
LOCATION:300 E Main St\, Durham\, NC\, United States
GEO:35.99924;-78.897944
END:VEVENT
BEGIN:VEVENT
DTSTART;TZID=America/New_York:20270325T200000
DTEND;TZID=America/New_York:20270326T000000
DTSTAMP:20260420T023011
CREATED:20260207T223603Z
LAST-MODIFIED:20260319T030615Z
UID:10000191-1806004800-1806019200@weldonmillsdurham.com
SUMMARY:Underground Latin Dance Social
DESCRIPTION:
URL:https://weldonmillsdurham.com/event/underground-latin-dance-social-56/
LOCATION:300 E Main St\, Durham\, NC\, United States
GEO:35.99924;-78.897944
END:VEVENT
BEGIN:VEVENT
DTSTART;TZID=America/New_York:20270326T200000
DTEND;TZID=America/New_York:20270326T220000
DTSTAMP:20260420T023011
CREATED:20250608T043212Z
LAST-MODIFIED:20260319T030615Z
UID:10000101-1806091200-1806098400@weldonmillsdurham.com
SUMMARY:Live Music
DESCRIPTION:
URL:https://weldonmillsdurham.com/event/live-music-95/
LOCATION:300 E Main St\, Durham\, NC\, United States
GEO:35.99924;-78.897944
END:VEVENT
BEGIN:VEVENT
DTSTART;TZID=America/New_York:20270401T200000
DTEND;TZID=America/New_York:20270402T000000
DTSTAMP:20260420T023011
CREATED:20260207T223603Z
LAST-MODIFIED:20260319T030615Z
UID:10000192-1806609600-1806624000@weldonmillsdurham.com
SUMMARY:Underground Latin Dance Social
DESCRIPTION:
URL:https://weldonmillsdurham.com/event/underground-latin-dance-social-57/
LOCATION:300 E Main St\, Durham\, NC\, United States
GEO:35.99924;-78.897944
END:VEVENT
BEGIN:VEVENT
DTSTART;TZID=America/New_York:20270402T200000
DTEND;TZID=America/New_York:20270402T220000
DTSTAMP:20260420T023011
CREATED:20250608T043212Z
LAST-MODIFIED:20260319T030615Z
UID:10000102-1806696000-1806703200@weldonmillsdurham.com
SUMMARY:Live Music
DESCRIPTION:
URL:https://weldonmillsdurham.com/event/live-music-96/
LOCATION:300 E Main St\, Durham\, NC\, United States
GEO:35.99924;-78.897944
END:VEVENT
BEGIN:VEVENT
DTSTART;TZID=America/New_York:20270408T200000
DTEND;TZID=America/New_York:20270409T000000
DTSTAMP:20260420T023011
CREATED:20260207T223603Z
LAST-MODIFIED:20260319T030615Z
UID:10000193-1807214400-1807228800@weldonmillsdurham.com
SUMMARY:Underground Latin Dance Social
DESCRIPTION:
URL:https://weldonmillsdurham.com/event/underground-latin-dance-social-58/
LOCATION:300 E Main St\, Durham\, NC\, United States
GEO:35.99924;-78.897944
END:VEVENT
BEGIN:VEVENT
DTSTART;TZID=America/New_York:20270409T200000
DTEND;TZID=America/New_York:20270409T220000
DTSTAMP:20260420T023011
CREATED:20250608T043212Z
LAST-MODIFIED:20260319T030615Z
UID:10000103-1807300800-1807308000@weldonmillsdurham.com
SUMMARY:Live Music
DESCRIPTION:
URL:https://weldonmillsdurham.com/event/live-music-97/
LOCATION:300 E Main St\, Durham\, NC\, United States
GEO:35.99924;-78.897944
END:VEVENT
END:VCALENDAR