BEGIN:VCALENDAR
VERSION:2.0
PRODID:-//Weldon Mills Durham - ECPv6.11.2//NONSGML v1.0//EN
CALSCALE:GREGORIAN
METHOD:PUBLISH
X-ORIGINAL-URL:https://weldonmillsdurham.com
X-WR-CALDESC:Events for Weldon Mills Durham
REFRESH-INTERVAL;VALUE=DURATION:PT1H
X-Robots-Tag:noindex
X-PUBLISHED-TTL:PT1H
BEGIN:VTIMEZONE
TZID:America/New_York
BEGIN:DAYLIGHT
TZOFFSETFROM:-0500
TZOFFSETTO:-0400
TZNAME:EDT
DTSTART:20260308T070000
END:DAYLIGHT
BEGIN:STANDARD
TZOFFSETFROM:-0400
TZOFFSETTO:-0500
TZNAME:EST
DTSTART:20261101T060000
END:STANDARD
END:VTIMEZONE
BEGIN:VEVENT
DTSTART;TZID=America/New_York:20260716T200000
DTEND;TZID=America/New_York:20260717T000000
DTSTAMP:20260419T191021
CREATED:20260207T223602Z
LAST-MODIFIED:20260319T030613Z
UID:10000155-1784232000-1784246400@weldonmillsdurham.com
SUMMARY:Underground Latin Dance Social
DESCRIPTION:
URL:https://weldonmillsdurham.com/event/underground-latin-dance-social-20/
LOCATION:300 E Main St\, Durham\, NC\, United States
GEO:35.99924;-78.897944
END:VEVENT
BEGIN:VEVENT
DTSTART;TZID=America/New_York:20260717T200000
DTEND;TZID=America/New_York:20260717T220000
DTSTAMP:20260419T191021
CREATED:20250608T043209Z
LAST-MODIFIED:20260319T030613Z
UID:10000065-1784318400-1784325600@weldonmillsdurham.com
SUMMARY:Live Music
DESCRIPTION:
URL:https://weldonmillsdurham.com/event/live-music-59/
LOCATION:300 E Main St\, Durham\, NC\, United States
GEO:35.99924;-78.897944
END:VEVENT
BEGIN:VEVENT
DTSTART;TZID=America/New_York:20260723T200000
DTEND;TZID=America/New_York:20260724T000000
DTSTAMP:20260419T191021
CREATED:20260207T223602Z
LAST-MODIFIED:20260319T030613Z
UID:10000156-1784836800-1784851200@weldonmillsdurham.com
SUMMARY:Underground Latin Dance Social
DESCRIPTION:
URL:https://weldonmillsdurham.com/event/underground-latin-dance-social-21/
LOCATION:300 E Main St\, Durham\, NC\, United States
GEO:35.99924;-78.897944
END:VEVENT
BEGIN:VEVENT
DTSTART;TZID=America/New_York:20260724T200000
DTEND;TZID=America/New_York:20260724T220000
DTSTAMP:20260419T191021
CREATED:20250608T043210Z
LAST-MODIFIED:20260319T030613Z
UID:10000066-1784923200-1784930400@weldonmillsdurham.com
SUMMARY:Live Music
DESCRIPTION:
URL:https://weldonmillsdurham.com/event/live-music-60/
LOCATION:300 E Main St\, Durham\, NC\, United States
GEO:35.99924;-78.897944
END:VEVENT
BEGIN:VEVENT
DTSTART;TZID=America/New_York:20260730T200000
DTEND;TZID=America/New_York:20260731T000000
DTSTAMP:20260419T191021
CREATED:20260207T223602Z
LAST-MODIFIED:20260319T030613Z
UID:10000157-1785441600-1785456000@weldonmillsdurham.com
SUMMARY:Underground Latin Dance Social
DESCRIPTION:
URL:https://weldonmillsdurham.com/event/underground-latin-dance-social-22/
LOCATION:300 E Main St\, Durham\, NC\, United States
GEO:35.99924;-78.897944
END:VEVENT
BEGIN:VEVENT
DTSTART;TZID=America/New_York:20260731T200000
DTEND;TZID=America/New_York:20260731T220000
DTSTAMP:20260419T191021
CREATED:20250608T043210Z
LAST-MODIFIED:20260319T030613Z
UID:10000067-1785528000-1785535200@weldonmillsdurham.com
SUMMARY:Live Music
DESCRIPTION:
URL:https://weldonmillsdurham.com/event/live-music-61/
LOCATION:300 E Main St\, Durham\, NC\, United States
GEO:35.99924;-78.897944
END:VEVENT
BEGIN:VEVENT
DTSTART;TZID=America/New_York:20260806T200000
DTEND;TZID=America/New_York:20260807T000000
DTSTAMP:20260419T191021
CREATED:20260207T223602Z
LAST-MODIFIED:20260319T030613Z
UID:10000158-1786046400-1786060800@weldonmillsdurham.com
SUMMARY:Underground Latin Dance Social
DESCRIPTION:
URL:https://weldonmillsdurham.com/event/underground-latin-dance-social-23/
LOCATION:300 E Main St\, Durham\, NC\, United States
GEO:35.99924;-78.897944
END:VEVENT
BEGIN:VEVENT
DTSTART;TZID=America/New_York:20260807T200000
DTEND;TZID=America/New_York:20260807T220000
DTSTAMP:20260419T191021
CREATED:20250608T043210Z
LAST-MODIFIED:20260319T030613Z
UID:10000068-1786132800-1786140000@weldonmillsdurham.com
SUMMARY:Live Music
DESCRIPTION:
URL:https://weldonmillsdurham.com/event/live-music-62/
LOCATION:300 E Main St\, Durham\, NC\, United States
GEO:35.99924;-78.897944
END:VEVENT
BEGIN:VEVENT
DTSTART;TZID=America/New_York:20260813T200000
DTEND;TZID=America/New_York:20260814T000000
DTSTAMP:20260419T191021
CREATED:20260207T223602Z
LAST-MODIFIED:20260319T030613Z
UID:10000159-1786651200-1786665600@weldonmillsdurham.com
SUMMARY:Underground Latin Dance Social
DESCRIPTION:
URL:https://weldonmillsdurham.com/event/underground-latin-dance-social-24/
LOCATION:300 E Main St\, Durham\, NC\, United States
GEO:35.99924;-78.897944
END:VEVENT
BEGIN:VEVENT
DTSTART;TZID=America/New_York:20260814T200000
DTEND;TZID=America/New_York:20260814T220000
DTSTAMP:20260419T191021
CREATED:20250608T043210Z
LAST-MODIFIED:20260319T030613Z
UID:10000069-1786737600-1786744800@weldonmillsdurham.com
SUMMARY:Live Music
DESCRIPTION:
URL:https://weldonmillsdurham.com/event/live-music-63/
LOCATION:300 E Main St\, Durham\, NC\, United States
GEO:35.99924;-78.897944
END:VEVENT
BEGIN:VEVENT
DTSTART;TZID=America/New_York:20260820T200000
DTEND;TZID=America/New_York:20260821T000000
DTSTAMP:20260419T191021
CREATED:20260207T223602Z
LAST-MODIFIED:20260319T030613Z
UID:10000160-1787256000-1787270400@weldonmillsdurham.com
SUMMARY:Underground Latin Dance Social
DESCRIPTION:
URL:https://weldonmillsdurham.com/event/underground-latin-dance-social-25/
LOCATION:300 E Main St\, Durham\, NC\, United States
GEO:35.99924;-78.897944
END:VEVENT
BEGIN:VEVENT
DTSTART;TZID=America/New_York:20260821T200000
DTEND;TZID=America/New_York:20260821T220000
DTSTAMP:20260419T191021
CREATED:20250608T043210Z
LAST-MODIFIED:20260319T030613Z
UID:10000070-1787342400-1787349600@weldonmillsdurham.com
SUMMARY:Live Music
DESCRIPTION:
URL:https://weldonmillsdurham.com/event/live-music-64/
LOCATION:300 E Main St\, Durham\, NC\, United States
GEO:35.99924;-78.897944
END:VEVENT
BEGIN:VEVENT
DTSTART;TZID=America/New_York:20260827T200000
DTEND;TZID=America/New_York:20260828T000000
DTSTAMP:20260419T191021
CREATED:20260207T223602Z
LAST-MODIFIED:20260319T030613Z
UID:10000161-1787860800-1787875200@weldonmillsdurham.com
SUMMARY:Underground Latin Dance Social
DESCRIPTION:
URL:https://weldonmillsdurham.com/event/underground-latin-dance-social-26/
LOCATION:300 E Main St\, Durham\, NC\, United States
GEO:35.99924;-78.897944
END:VEVENT
BEGIN:VEVENT
DTSTART;TZID=America/New_York:20260828T200000
DTEND;TZID=America/New_York:20260828T220000
DTSTAMP:20260419T191021
CREATED:20250608T043210Z
LAST-MODIFIED:20260319T030613Z
UID:10000071-1787947200-1787954400@weldonmillsdurham.com
SUMMARY:Live Music
DESCRIPTION:
URL:https://weldonmillsdurham.com/event/live-music-65/
LOCATION:300 E Main St\, Durham\, NC\, United States
GEO:35.99924;-78.897944
END:VEVENT
BEGIN:VEVENT
DTSTART;TZID=America/New_York:20260903T200000
DTEND;TZID=America/New_York:20260904T000000
DTSTAMP:20260419T191021
CREATED:20260207T223602Z
LAST-MODIFIED:20260319T030613Z
UID:10000162-1788465600-1788480000@weldonmillsdurham.com
SUMMARY:Underground Latin Dance Social
DESCRIPTION:
URL:https://weldonmillsdurham.com/event/underground-latin-dance-social-27/
LOCATION:300 E Main St\, Durham\, NC\, United States
GEO:35.99924;-78.897944
END:VEVENT
BEGIN:VEVENT
DTSTART;TZID=America/New_York:20260904T200000
DTEND;TZID=America/New_York:20260904T220000
DTSTAMP:20260419T191021
CREATED:20250608T043210Z
LAST-MODIFIED:20260319T030613Z
UID:10000072-1788552000-1788559200@weldonmillsdurham.com
SUMMARY:Live Music
DESCRIPTION:
URL:https://weldonmillsdurham.com/event/live-music-66/
LOCATION:300 E Main St\, Durham\, NC\, United States
GEO:35.99924;-78.897944
END:VEVENT
BEGIN:VEVENT
DTSTART;TZID=America/New_York:20260910T200000
DTEND;TZID=America/New_York:20260911T000000
DTSTAMP:20260419T191021
CREATED:20260207T223602Z
LAST-MODIFIED:20260319T030613Z
UID:10000163-1789070400-1789084800@weldonmillsdurham.com
SUMMARY:Underground Latin Dance Social
DESCRIPTION:
URL:https://weldonmillsdurham.com/event/underground-latin-dance-social-28/
LOCATION:300 E Main St\, Durham\, NC\, United States
GEO:35.99924;-78.897944
END:VEVENT
BEGIN:VEVENT
DTSTART;TZID=America/New_York:20260911T200000
DTEND;TZID=America/New_York:20260911T220000
DTSTAMP:20260419T191021
CREATED:20250608T043210Z
LAST-MODIFIED:20260319T030613Z
UID:10000073-1789156800-1789164000@weldonmillsdurham.com
SUMMARY:Live Music
DESCRIPTION:
URL:https://weldonmillsdurham.com/event/live-music-67/
LOCATION:300 E Main St\, Durham\, NC\, United States
GEO:35.99924;-78.897944
END:VEVENT
BEGIN:VEVENT
DTSTART;TZID=America/New_York:20260917T200000
DTEND;TZID=America/New_York:20260918T000000
DTSTAMP:20260419T191021
CREATED:20260207T223602Z
LAST-MODIFIED:20260319T030613Z
UID:10000164-1789675200-1789689600@weldonmillsdurham.com
SUMMARY:Underground Latin Dance Social
DESCRIPTION:
URL:https://weldonmillsdurham.com/event/underground-latin-dance-social-29/
LOCATION:300 E Main St\, Durham\, NC\, United States
GEO:35.99924;-78.897944
END:VEVENT
BEGIN:VEVENT
DTSTART;TZID=America/New_York:20260918T200000
DTEND;TZID=America/New_York:20260918T220000
DTSTAMP:20260419T191021
CREATED:20250608T043210Z
LAST-MODIFIED:20260319T030614Z
UID:10000074-1789761600-1789768800@weldonmillsdurham.com
SUMMARY:Live Music
DESCRIPTION:
URL:https://weldonmillsdurham.com/event/live-music-68/
LOCATION:300 E Main St\, Durham\, NC\, United States
GEO:35.99924;-78.897944
END:VEVENT
BEGIN:VEVENT
DTSTART;TZID=America/New_York:20260924T200000
DTEND;TZID=America/New_York:20260925T000000
DTSTAMP:20260419T191021
CREATED:20260207T223602Z
LAST-MODIFIED:20260319T030614Z
UID:10000165-1790280000-1790294400@weldonmillsdurham.com
SUMMARY:Underground Latin Dance Social
DESCRIPTION:
URL:https://weldonmillsdurham.com/event/underground-latin-dance-social-30/
LOCATION:300 E Main St\, Durham\, NC\, United States
GEO:35.99924;-78.897944
END:VEVENT
BEGIN:VEVENT
DTSTART;TZID=America/New_York:20260925T200000
DTEND;TZID=America/New_York:20260925T220000
DTSTAMP:20260419T191021
CREATED:20250608T043210Z
LAST-MODIFIED:20260319T030614Z
UID:10000075-1790366400-1790373600@weldonmillsdurham.com
SUMMARY:Live Music
DESCRIPTION:
URL:https://weldonmillsdurham.com/event/live-music-69/
LOCATION:300 E Main St\, Durham\, NC\, United States
GEO:35.99924;-78.897944
END:VEVENT
BEGIN:VEVENT
DTSTART;TZID=America/New_York:20261001T200000
DTEND;TZID=America/New_York:20261002T000000
DTSTAMP:20260419T191021
CREATED:20260207T223602Z
LAST-MODIFIED:20260319T030614Z
UID:10000166-1790884800-1790899200@weldonmillsdurham.com
SUMMARY:Underground Latin Dance Social
DESCRIPTION:
URL:https://weldonmillsdurham.com/event/underground-latin-dance-social-31/
LOCATION:300 E Main St\, Durham\, NC\, United States
GEO:35.99924;-78.897944
END:VEVENT
BEGIN:VEVENT
DTSTART;TZID=America/New_York:20261002T200000
DTEND;TZID=America/New_York:20261002T220000
DTSTAMP:20260419T191021
CREATED:20250608T043210Z
LAST-MODIFIED:20260319T030614Z
UID:10000076-1790971200-1790978400@weldonmillsdurham.com
SUMMARY:Live Music
DESCRIPTION:
URL:https://weldonmillsdurham.com/event/live-music-70/
LOCATION:300 E Main St\, Durham\, NC\, United States
GEO:35.99924;-78.897944
END:VEVENT
BEGIN:VEVENT
DTSTART;TZID=America/New_York:20261008T200000
DTEND;TZID=America/New_York:20261009T000000
DTSTAMP:20260419T191021
CREATED:20260207T223602Z
LAST-MODIFIED:20260319T030614Z
UID:10000167-1791489600-1791504000@weldonmillsdurham.com
SUMMARY:Underground Latin Dance Social
DESCRIPTION:
URL:https://weldonmillsdurham.com/event/underground-latin-dance-social-32/
LOCATION:300 E Main St\, Durham\, NC\, United States
GEO:35.99924;-78.897944
END:VEVENT
BEGIN:VEVENT
DTSTART;TZID=America/New_York:20261009T200000
DTEND;TZID=America/New_York:20261009T220000
DTSTAMP:20260419T191021
CREATED:20250608T043210Z
LAST-MODIFIED:20260319T030614Z
UID:10000077-1791576000-1791583200@weldonmillsdurham.com
SUMMARY:Live Music
DESCRIPTION:
URL:https://weldonmillsdurham.com/event/live-music-71/
LOCATION:300 E Main St\, Durham\, NC\, United States
GEO:35.99924;-78.897944
END:VEVENT
BEGIN:VEVENT
DTSTART;TZID=America/New_York:20261015T200000
DTEND;TZID=America/New_York:20261016T000000
DTSTAMP:20260419T191021
CREATED:20260207T223602Z
LAST-MODIFIED:20260319T030614Z
UID:10000168-1792094400-1792108800@weldonmillsdurham.com
SUMMARY:Underground Latin Dance Social
DESCRIPTION:
URL:https://weldonmillsdurham.com/event/underground-latin-dance-social-33/
LOCATION:300 E Main St\, Durham\, NC\, United States
GEO:35.99924;-78.897944
END:VEVENT
BEGIN:VEVENT
DTSTART;TZID=America/New_York:20261016T200000
DTEND;TZID=America/New_York:20261016T220000
DTSTAMP:20260419T191021
CREATED:20250608T043210Z
LAST-MODIFIED:20260319T030614Z
UID:10000078-1792180800-1792188000@weldonmillsdurham.com
SUMMARY:Live Music
DESCRIPTION:
URL:https://weldonmillsdurham.com/event/live-music-72/
LOCATION:300 E Main St\, Durham\, NC\, United States
GEO:35.99924;-78.897944
END:VEVENT
BEGIN:VEVENT
DTSTART;TZID=America/New_York:20261022T200000
DTEND;TZID=America/New_York:20261023T000000
DTSTAMP:20260419T191021
CREATED:20260207T223602Z
LAST-MODIFIED:20260319T030614Z
UID:10000169-1792699200-1792713600@weldonmillsdurham.com
SUMMARY:Underground Latin Dance Social
DESCRIPTION:
URL:https://weldonmillsdurham.com/event/underground-latin-dance-social-34/
LOCATION:300 E Main St\, Durham\, NC\, United States
GEO:35.99924;-78.897944
END:VEVENT
BEGIN:VEVENT
DTSTART;TZID=America/New_York:20261023T200000
DTEND;TZID=America/New_York:20261023T220000
DTSTAMP:20260419T191021
CREATED:20250608T043210Z
LAST-MODIFIED:20260319T030614Z
UID:10000079-1792785600-1792792800@weldonmillsdurham.com
SUMMARY:Live Music
DESCRIPTION:
URL:https://weldonmillsdurham.com/event/live-music-73/
LOCATION:300 E Main St\, Durham\, NC\, United States
GEO:35.99924;-78.897944
END:VEVENT
END:VCALENDAR